BEGIN:VCALENDAR
VERSION:2.0
PRODID:-//Hot August Night - ECPv6.15.20//NONSGML v1.0//EN
CALSCALE:GREGORIAN
METHOD:PUBLISH
X-WR-CALNAME:Hot August Night
X-ORIGINAL-URL:https://hotaugustnightband.com
X-WR-CALDESC:Events for Hot August Night
REFRESH-INTERVAL;VALUE=DURATION:PT1H
X-Robots-Tag:noindex
X-PUBLISHED-TTL:PT1H
BEGIN:VTIMEZONE
TZID:America/Phoenix
BEGIN:STANDARD
TZOFFSETFROM:-0700
TZOFFSETTO:-0700
TZNAME:MST
DTSTART:20230101T000000
END:STANDARD
END:VTIMEZONE
BEGIN:VEVENT
DTSTART;TZID=America/Phoenix:20241011T190000
DTEND;TZID=America/Phoenix:20241011T210000
DTSTAMP:20260423T094102
CREATED:20240718T110946Z
LAST-MODIFIED:20240718T112333Z
UID:87-1728673200-1728680400@hotaugustnightband.com
SUMMARY:Hot August Night @ Goodyear Pebble Creek Renaissance Theater
DESCRIPTION:Private Event for Homeowners
URL:https://hotaugustnightband.com/event/hot-august-night-goodyear-pebble-creek-renaissance-theater/
LOCATION:Goodyear Pebble Creek Renaissance Theater\, 16666 Clubhouse Dr\,\, Goodyear\, AZ\, 85395
END:VEVENT
BEGIN:VEVENT
DTSTART;TZID=America/Phoenix:20241012T190000
DTEND;TZID=America/Phoenix:20241012T203000
DTSTAMP:20260423T094102
CREATED:20240720T062454Z
LAST-MODIFIED:20240720T062454Z
UID:112-1728759600-1728765000@hotaugustnightband.com
SUMMARY:Hot August Night @ Province Community
DESCRIPTION:Private event for homeowners
URL:https://hotaugustnightband.com/event/hot-august-night-province-community/
LOCATION:Province Community\, 20942 Province Pkwy\, Maricopa\, AZ\, 85138
END:VEVENT
BEGIN:VEVENT
DTSTART;TZID=America/Phoenix:20241014T193000
DTEND;TZID=America/Phoenix:20241014T210000
DTSTAMP:20260423T094102
CREATED:20240720T063258Z
LAST-MODIFIED:20240720T063258Z
UID:116-1728934200-1728939600@hotaugustnightband.com
SUMMARY:Hot August Night @ Arizona Broadway Theatre
DESCRIPTION:Playing in the Mainstage Theatre
URL:https://hotaugustnightband.com/event/hot-august-night-arizona-broadway-theatre/
LOCATION:Arizona Broadway Theatre\, 7701 W Paradise Ln\, Peoria\, AZ\, 85382
END:VEVENT
END:VCALENDAR