BEGIN:VCALENDAR
VERSION:2.0
PRODID:-//Hot August Night - ECPv6.15.20//NONSGML v1.0//EN
CALSCALE:GREGORIAN
METHOD:PUBLISH
X-ORIGINAL-URL:https://hotaugustnightband.com
X-WR-CALDESC:Events for Hot August Night
REFRESH-INTERVAL;VALUE=DURATION:PT1H
X-Robots-Tag:noindex
X-PUBLISHED-TTL:PT1H
BEGIN:VTIMEZONE
TZID:America/Phoenix
BEGIN:STANDARD
TZOFFSETFROM:-0700
TZOFFSETTO:-0700
TZNAME:MST
DTSTART:20240101T000000
END:STANDARD
END:VTIMEZONE
BEGIN:VEVENT
DTSTART;TZID=America/Phoenix:20250211T190000
DTEND;TZID=America/Phoenix:20250211T203000
DTSTAMP:20260423T045930
CREATED:20240720T070809Z
LAST-MODIFIED:20240720T070809Z
UID:137-1739300400-1739305800@hotaugustnightband.com
SUMMARY:Hot August Night @ Cottonwood Country Club
DESCRIPTION:Private event for homeowners
URL:https://hotaugustnightband.com/event/hot-august-night-cottonwood-country-club/
LOCATION:Cottonwood Country Club\, 25630 S Brentwood Dr\, Sun Lakes\, AZ\, 85248
END:VEVENT
END:VCALENDAR