BEGIN:VCALENDAR
VERSION:2.0
PRODID:-//Hot August Night - ECPv6.15.20//NONSGML v1.0//EN
CALSCALE:GREGORIAN
METHOD:PUBLISH
X-ORIGINAL-URL:https://hotaugustnightband.com
X-WR-CALDESC:Events for Hot August Night
REFRESH-INTERVAL;VALUE=DURATION:PT1H
X-Robots-Tag:noindex
X-PUBLISHED-TTL:PT1H
BEGIN:VTIMEZONE
TZID:America/Phoenix
BEGIN:STANDARD
TZOFFSETFROM:-0700
TZOFFSETTO:-0700
TZNAME:MST
DTSTART:20230101T000000
END:STANDARD
END:VTIMEZONE
BEGIN:VEVENT
DTSTART;TZID=America/Phoenix:20241202T160000
DTEND;TZID=America/Phoenix:20241202T173000
DTSTAMP:20260423T075633
CREATED:20241116T072032Z
LAST-MODIFIED:20241116T072417Z
UID:158-1733155200-1733160600@hotaugustnightband.com
SUMMARY:Hot August Night @ Saguaro Center
DESCRIPTION:
URL:https://hotaugustnightband.com/event/hot-august-night-saguaro-center/
LOCATION:Saguaro Center\, 26285 W Morrow Dr\, Buckeye\, AZ\, 85396
END:VEVENT
BEGIN:VEVENT
DTSTART;TZID=America/Phoenix:20241202T190000
DTEND;TZID=America/Phoenix:20241202T203000
DTSTAMP:20260423T075633
CREATED:20241116T072136Z
LAST-MODIFIED:20241116T072348Z
UID:160-1733166000-1733171400@hotaugustnightband.com
SUMMARY:Hot August Night @ Saguaro Center
DESCRIPTION:
URL:https://hotaugustnightband.com/event/hot-august-night-saguaro-center-2/
LOCATION:Saguaro Center\, 26285 W Morrow Dr\, Buckeye\, AZ\, 85396
END:VEVENT
END:VCALENDAR