BEGIN:VCALENDAR
VERSION:2.0
PRODID:-//Hot August Night - ECPv6.15.20//NONSGML v1.0//EN
CALSCALE:GREGORIAN
METHOD:PUBLISH
X-WR-CALNAME:Hot August Night
X-ORIGINAL-URL:https://hotaugustnightband.com
X-WR-CALDESC:Events for Hot August Night
REFRESH-INTERVAL;VALUE=DURATION:PT1H
X-Robots-Tag:noindex
X-PUBLISHED-TTL:PT1H
BEGIN:VTIMEZONE
TZID:America/Los_Angeles
BEGIN:DAYLIGHT
TZOFFSETFROM:-0800
TZOFFSETTO:-0700
TZNAME:PDT
DTSTART:20230312T100000
END:DAYLIGHT
BEGIN:STANDARD
TZOFFSETFROM:-0700
TZOFFSETTO:-0800
TZNAME:PST
DTSTART:20231105T090000
END:STANDARD
BEGIN:DAYLIGHT
TZOFFSETFROM:-0800
TZOFFSETTO:-0700
TZNAME:PDT
DTSTART:20240310T100000
END:DAYLIGHT
BEGIN:STANDARD
TZOFFSETFROM:-0700
TZOFFSETTO:-0800
TZNAME:PST
DTSTART:20241103T090000
END:STANDARD
BEGIN:DAYLIGHT
TZOFFSETFROM:-0800
TZOFFSETTO:-0700
TZNAME:PDT
DTSTART:20250309T100000
END:DAYLIGHT
BEGIN:STANDARD
TZOFFSETFROM:-0700
TZOFFSETTO:-0800
TZNAME:PST
DTSTART:20251102T090000
END:STANDARD
END:VTIMEZONE
BEGIN:VEVENT
DTSTART;TZID=America/Los_Angeles:20241109T150000
DTEND;TZID=America/Los_Angeles:20241109T170000
DTSTAMP:20260423T094103
CREATED:20240720T063733Z
LAST-MODIFIED:20240720T063733Z
UID:120-1731164400-1731171600@hotaugustnightband.com
SUMMARY:Hot August Night @ El Portal Theatre
DESCRIPTION:Matinee show
URL:https://hotaugustnightband.com/event/hot-august-night-el-portal-theatre/
LOCATION:El Portal Theatre\, 5269 Lankershim Blvd\, North Hollywood\, CA\, 91601
END:VEVENT
END:VCALENDAR